BEGIN:VCALENDAR
VERSION:2.0
PRODID:DPCALENDAR
CALSCALE:GREGORIAN
BEGIN:VTIMEZONE
TZID:Europe/Vienna
BEGIN:STANDARD
DTSTART:20251026T010000
TZOFFSETFROM:+0200
TZOFFSETTO:+0100
TZNAME:CET
END:STANDARD
BEGIN:STANDARD
DTSTART:20261025T010000
TZOFFSETFROM:+0200
TZOFFSETTO:+0100
TZNAME:CET
END:STANDARD
BEGIN:DAYLIGHT
DTSTART:20260329T010000
TZOFFSETFROM:+0100
TZOFFSETTO:+0200
TZNAME:CEST
END:DAYLIGHT
END:VTIMEZONE
X-WR-TIMEZONE:Europe/Vienna
BEGIN:VEVENT
DTSTART;TZID=Europe/Vienna:20240505T130000
DTEND;TZID=Europe/Vienna:20240505T160000
UID:D102E070-E573-4F0D-A344-000C3D28EF90
SUMMARY:Wings for Life
CREATED:20240418T111601Z
DTSTAMP:20240418T111601Z
URL:https://www.wingsforlifeworldrun.com/de/locations/altenberg-bei-linz
DESCRIPTION: Start ist beim Feuerwehrhaus Altenberg\N 
X-ALT-DESC;FMTTYPE=text/html:<p>&nbsp;Start ist beim Feuerwehrhaus Altenberg</p><div id="kpm_content_wrapper" class="notranslate">&nbsp;</div>
X-ACCESS:1
X-HITS:896
X-COLOR:f200ff
X-SHOW-END-TIME:0
END:VEVENT
END:VCALENDAR